Workbook

Sheet Woche 1
A1: Schichtplan – Woche 1
A2: Woche ab (Montag): | C2: ← Datum des Montags eintragen (z. B. 04.01.2027); die Wochen 2–4 rechnen sich mit.
A3: Kürzel: F = Früh, S = Spät, N = Nacht, U = Urlaub, K = Krank, - = frei. Stunden je Schicht im Blatt „Legende“.
A5: Mitarbeiter | B5: Mo | C5: Di | D5: Mi | E5: Do | F5: Fr | G5: Sa | H5: So | I5: Schichten | J5: Stunden | K5: Urlaub | L5: Krank
A6: Datum | B6: =IF($B$2="","",$B$2) | C6: =IF($B$2="","",$B$2+1) | D6: =IF($B$2="","",$B$2+2) | E6: =IF($B$2="","",$B$2+3) | F6: =IF($B$2="","",$B$2+4) | G6: =IF($B$2="","",$B$2+5) | H6: =IF($B$2="","",$B$2+6)
I7: =COUNTIF(B7:H7,"F")+COUNTIF(B7:H7,"S")+COUNTIF(B7:H7,"N") -> 0 | J7: =COUNTIF(B7:H7,"F")*Legende!$C$6+COUNTIF(B7:H7,"S")*Legende!$C$7+COUNTIF(B7:H7,"N")*Legende!$C$8 -> 0 | K7: =COUNTIF(B7:H7,"U") -> 0 | L7: =COUNTIF(B7:H7,"K") -> 0
I8: =COUNTIF(B8:H8,"F")+COUNTIF(B8:H8,"S")+COUNTIF(B8:H8,"N") -> 0 | J8: =COUNTIF(B8:H8,"F")*Legende!$C$6+COUNTIF(B8:H8,"S")*Legende!$C$7+COUNTIF(B8:H8,"N")*Legende!$C$8 -> 0 | K8: =COUNTIF(B8:H8,"U") -> 0 | L8: =COUNTIF(B8:H8,"K") -> 0
I9: =COUNTIF(B9:H9,"F")+COUNTIF(B9:H9,"S")+COUNTIF(B9:H9,"N") -> 0 | J9: =COUNTIF(B9:H9,"F")*Legende!$C$6+COUNTIF(B9:H9,"S")*Legende!$C$7+COUNTIF(B9:H9,"N")*Legende!$C$8 -> 0 | K9: =COUNTIF(B9:H9,"U") -> 0 | L9: =COUNTIF(B9:H9,"K") -> 0
I10: =COUNTIF(B10:H10,"F")+COUNTIF(B10:H10,"S")+COUNTIF(B10:H10,"N") -> 0 | J10: =COUNTIF(B10:H10,"F")*Legende!$C$6+COUNTIF(B10:H10,"S")*Legende!$C$7+COUNTIF(B10:H10,"N")*Legende!$C$8 -> 0 | K10: =COUNTIF(B10:H10,"U") -> 0 | L10: =COUNTIF(B10:H10,"K") -> 0
I11: =COUNTIF(B11:H11,"F")+COUNTIF(B11:H11,"S")+COUNTIF(B11:H11,"N") -> 0 | J11: =COUNTIF(B11:H11,"F")*Legende!$C$6+COUNTIF(B11:H11,"S")*Legende!$C$7+COUNTIF(B11:H11,"N")*Legende!$C$8 -> 0 | K11: =COUNTIF(B11:H11,"U") -> 0 | L11: =COUNTIF(B11:H11,"K") -> 0
I12: =COUNTIF(B12:H12,"F")+COUNTIF(B12:H12,"S")+COUNTIF(B12:H12,"N") -> 0 | J12: =COUNTIF(B12:H12,"F")*Legende!$C$6+COUNTIF(B12:H12,"S")*Legende!$C$7+COUNTIF(B12:H12,"N")*Legende!$C$8 -> 0 | K12: =COUNTIF(B12:H12,"U") -> 0 | L12: =COUNTIF(B12:H12,"K") -> 0
I13: =COUNTIF(B13:H13,"F")+COUNTIF(B13:H13,"S")+COUNTIF(B13:H13,"N") -> 0 | J13: =COUNTIF(B13:H13,"F")*Legende!$C$6+COUNTIF(B13:H13,"S")*Legende!$C$7+COUNTIF(B13:H13,"N")*Legende!$C$8 -> 0 | K13: =COUNTIF(B13:H13,"U") -> 0 | L13: =COUNTIF(B13:H13,"K") -> 0
I14: =COUNTIF(B14:H14,"F")+COUNTIF(B14:H14,"S")+COUNTIF(B14:H14,"N") -> 0 | J14: =COUNTIF(B14:H14,"F")*Legende!$C$6+COUNTIF(B14:H14,"S")*Legende!$C$7+COUNTIF(B14:H14,"N")*Legende!$C$8 -> 0 | K14: =COUNTIF(B14:H14,"U") -> 0 | L14: =COUNTIF(B14:H14,"K") -> 0
I15: =COUNTIF(B15:H15,"F")+COUNTIF(B15:H15,"S")+COUNTIF(B15:H15,"N") -> 0 | J15: =COUNTIF(B15:H15,"F")*Legende!$C$6+COUNTIF(B15:H15,"S")*Legende!$C$7+COUNTIF(B15:H15,"N")*Legende!$C$8 -> 0 | K15: =COUNTIF(B15:H15,"U") -> 0 | L15: =COUNTIF(B15:H15,"K") -> 0
I16: =COUNTIF(B16:H16,"F")+COUNTIF(B16:H16,"S")+COUNTIF(B16:H16,"N") -> 0 | J16: =COUNTIF(B16:H16,"F")*Legende!$C$6+COUNTIF(B16:H16,"S")*Legende!$C$7+COUNTIF(B16:H16,"N")*Legende!$C$8 -> 0 | K16: =COUNTIF(B16:H16,"U") -> 0 | L16: =COUNTIF(B16:H16,"K") -> 0
I17: =COUNTIF(B17:H17,"F")+COUNTIF(B17:H17,"S")+COUNTIF(B17:H17,"N") -> 0 | J17: =COUNTIF(B17:H17,"F")*Legende!$C$6+COUNTIF(B17:H17,"S")*Legende!$C$7+COUNTIF(B17:H17,"N")*Legende!$C$8 -> 0 | K17: =COUNTIF(B17:H17,"U") -> 0 | L17: =COUNTIF(B17:H17,"K") -> 0
I18: =COUNTIF(B18:H18,"F")+COUNTIF(B18:H18,"S")+COUNTIF(B18:H18,"N") -> 0 | J18: =COUNTIF(B18:H18,"F")*Legende!$C$6+COUNTIF(B18:H18,"S")*Legende!$C$7+COUNTIF(B18:H18,"N")*Legende!$C$8 -> 0 | K18: =COUNTIF(B18:H18,"U") -> 0 | L18: =COUNTIF(B18:H18,"K") -> 0
... I26: =COUNTIF(B26:H26,"F")+COUNTIF(B26:H26,"S")+COUNTIF(B26:H26,"N") -> 0 | J26: =COUNTIF(B26:H26,"F")*Legende!$C$6+COUNTIF(B26:H26,"S")*Legende!$C$7+COUNTIF(B26:H26,"N")*Legende!$C$8 -> 0 | K26: =COUNTIF(B26:H26,"U") -> 0 | L26: =COUNTIF(B26:H26,"K") -> 0
A27: Summe | I27: =SUM(I7:I26) -> 0 | J27: =SUM(J7:J26) -> 0 | K27: =SUM(K7:K26) -> 0 | L27: =SUM(L7:L26) -> 0
A29: Besetzung Früh (F) | B29: =COUNTIF(B7:B26,"F") -> 0 | C29: =COUNTIF(C7:C26,"F") -> 0 | D29: =COUNTIF(D7:D26,"F") -> 0 | E29: =COUNTIF(E7:E26,"F") -> 0 | F29: =COUNTIF(F7:F26,"F") -> 0 | G29: =COUNTIF(G7:G26,"F") -> 0 | H29: =COUNTIF(H7:H26,"F") -> 0
A30: Besetzung Spät (S) | B30: =COUNTIF(B7:B26,"S") -> 0 | C30: =COUNTIF(C7:C26,"S") -> 0 | D30: =COUNTIF(D7:D26,"S") -> 0 | E30: =COUNTIF(E7:E26,"S") -> 0 | F30: =COUNTIF(F7:F26,"S") -> 0 | G30: =COUNTIF(G7:G26,"S") -> 0 | H30: =COUNTIF(H7:H26,"S") -> 0
A31: Besetzung Nacht (N) | B31: =COUNTIF(B7:B26,"N") -> 0 | C31: =COUNTIF(C7:C26,"N") -> 0 | D31: =COUNTIF(D7:D26,"N") -> 0 | E31: =COUNTIF(E7:E26,"N") -> 0 | F31: =COUNTIF(F7:F26,"N") -> 0 | G31: =COUNTIF(G7:G26,"N") -> 0 | H31: =COUNTIF(H7:H26,"N") -> 0

Sheet Woche 2
A1: Schichtplan – Woche 2
A2: Woche ab (Montag): | B2: =IF('Woche 1'!$B$2="","",'Woche 1'!$B$2+7) | C2: ← aus „Woche 1“ berechnet; zum Abweichen einfach ein eigenes Datum eintragen.
A3: Kürzel: F = Früh, S = Spät, N = Nacht, U = Urlaub, K = Krank, - = frei. Stunden je Schicht im Blatt „Legende“.
A5: Mitarbeiter | B5: Mo | C5: Di | D5: Mi | E5: Do | F5: Fr | G5: Sa | H5: So | I5: Schichten | J5: Stunden | K5: Urlaub | L5: Krank
A6: Datum | B6: =IF($B$2="","",$B$2) | C6: =IF($B$2="","",$B$2+1) | D6: =IF($B$2="","",$B$2+2) | E6: =IF($B$2="","",$B$2+3) | F6: =IF($B$2="","",$B$2+4) | G6: =IF($B$2="","",$B$2+5) | H6: =IF($B$2="","",$B$2+6)
I7: =COUNTIF(B7:H7,"F")+COUNTIF(B7:H7,"S")+COUNTIF(B7:H7,"N") -> 0 | J7: =COUNTIF(B7:H7,"F")*Legende!$C$6+COUNTIF(B7:H7,"S")*Legende!$C$7+COUNTIF(B7:H7,"N")*Legende!$C$8 -> 0 | K7: =COUNTIF(B7:H7,"U") -> 0 | L7: =COUNTIF(B7:H7,"K") -> 0
I8: =COUNTIF(B8:H8,"F")+COUNTIF(B8:H8,"S")+COUNTIF(B8:H8,"N") -> 0 | J8: =COUNTIF(B8:H8,"F")*Legende!$C$6+COUNTIF(B8:H8,"S")*Legende!$C$7+COUNTIF(B8:H8,"N")*Legende!$C$8 -> 0 | K8: =COUNTIF(B8:H8,"U") -> 0 | L8: =COUNTIF(B8:H8,"K") -> 0
I9: =COUNTIF(B9:H9,"F")+COUNTIF(B9:H9,"S")+COUNTIF(B9:H9,"N") -> 0 | J9: =COUNTIF(B9:H9,"F")*Legende!$C$6+COUNTIF(B9:H9,"S")*Legende!$C$7+COUNTIF(B9:H9,"N")*Legende!$C$8 -> 0 | K9: =COUNTIF(B9:H9,"U") -> 0 | L9: =COUNTIF(B9:H9,"K") -> 0
I10: =COUNTIF(B10:H10,"F")+COUNTIF(B10:H10,"S")+COUNTIF(B10:H10,"N") -> 0 | J10: =COUNTIF(B10:H10,"F")*Legende!$C$6+COUNTIF(B10:H10,"S")*Legende!$C$7+COUNTIF(B10:H10,"N")*Legende!$C$8 -> 0 | K10: =COUNTIF(B10:H10,"U") -> 0 | L10: =COUNTIF(B10:H10,"K") -> 0
I11: =COUNTIF(B11:H11,"F")+COUNTIF(B11:H11,"S")+COUNTIF(B11:H11,"N") -> 0 | J11: =COUNTIF(B11:H11,"F")*Legende!$C$6+COUNTIF(B11:H11,"S")*Legende!$C$7+COUNTIF(B11:H11,"N")*Legende!$C$8 -> 0 | K11: =COUNTIF(B11:H11,"U") -> 0 | L11: =COUNTIF(B11:H11,"K") -> 0
I12: =COUNTIF(B12:H12,"F")+COUNTIF(B12:H12,"S")+COUNTIF(B12:H12,"N") -> 0 | J12: =COUNTIF(B12:H12,"F")*Legende!$C$6+COUNTIF(B12:H12,"S")*Legende!$C$7+COUNTIF(B12:H12,"N")*Legende!$C$8 -> 0 | K12: =COUNTIF(B12:H12,"U") -> 0 | L12: =COUNTIF(B12:H12,"K") -> 0
I13: =COUNTIF(B13:H13,"F")+COUNTIF(B13:H13,"S")+COUNTIF(B13:H13,"N") -> 0 | J13: =COUNTIF(B13:H13,"F")*Legende!$C$6+COUNTIF(B13:H13,"S")*Legende!$C$7+COUNTIF(B13:H13,"N")*Legende!$C$8 -> 0 | K13: =COUNTIF(B13:H13,"U") -> 0 | L13: =COUNTIF(B13:H13,"K") -> 0
I14: =COUNTIF(B14:H14,"F")+COUNTIF(B14:H14,"S")+COUNTIF(B14:H14,"N") -> 0 | J14: =COUNTIF(B14:H14,"F")*Legende!$C$6+COUNTIF(B14:H14,"S")*Legende!$C$7+COUNTIF(B14:H14,"N")*Legende!$C$8 -> 0 | K14: =COUNTIF(B14:H14,"U") -> 0 | L14: =COUNTIF(B14:H14,"K") -> 0
I15: =COUNTIF(B15:H15,"F")+COUNTIF(B15:H15,"S")+COUNTIF(B15:H15,"N") -> 0 | J15: =COUNTIF(B15:H15,"F")*Legende!$C$6+COUNTIF(B15:H15,"S")*Legende!$C$7+COUNTIF(B15:H15,"N")*Legende!$C$8 -> 0 | K15: =COUNTIF(B15:H15,"U") -> 0 | L15: =COUNTIF(B15:H15,"K") -> 0
I16: =COUNTIF(B16:H16,"F")+COUNTIF(B16:H16,"S")+COUNTIF(B16:H16,"N") -> 0 | J16: =COUNTIF(B16:H16,"F")*Legende!$C$6+COUNTIF(B16:H16,"S")*Legende!$C$7+COUNTIF(B16:H16,"N")*Legende!$C$8 -> 0 | K16: =COUNTIF(B16:H16,"U") -> 0 | L16: =COUNTIF(B16:H16,"K") -> 0
I17: =COUNTIF(B17:H17,"F")+COUNTIF(B17:H17,"S")+COUNTIF(B17:H17,"N") -> 0 | J17: =COUNTIF(B17:H17,"F")*Legende!$C$6+COUNTIF(B17:H17,"S")*Legende!$C$7+COUNTIF(B17:H17,"N")*Legende!$C$8 -> 0 | K17: =COUNTIF(B17:H17,"U") -> 0 | L17: =COUNTIF(B17:H17,"K") -> 0
I18: =COUNTIF(B18:H18,"F")+COUNTIF(B18:H18,"S")+COUNTIF(B18:H18,"N") -> 0 | J18: =COUNTIF(B18:H18,"F")*Legende!$C$6+COUNTIF(B18:H18,"S")*Legende!$C$7+COUNTIF(B18:H18,"N")*Legende!$C$8 -> 0 | K18: =COUNTIF(B18:H18,"U") -> 0 | L18: =COUNTIF(B18:H18,"K") -> 0
... I26: =COUNTIF(B26:H26,"F")+COUNTIF(B26:H26,"S")+COUNTIF(B26:H26,"N") -> 0 | J26: =COUNTIF(B26:H26,"F")*Legende!$C$6+COUNTIF(B26:H26,"S")*Legende!$C$7+COUNTIF(B26:H26,"N")*Legende!$C$8 -> 0 | K26: =COUNTIF(B26:H26,"U") -> 0 | L26: =COUNTIF(B26:H26,"K") -> 0
A27: Summe | I27: =SUM(I7:I26) -> 0 | J27: =SUM(J7:J26) -> 0 | K27: =SUM(K7:K26) -> 0 | L27: =SUM(L7:L26) -> 0
A29: Besetzung Früh (F) | B29: =COUNTIF(B7:B26,"F") -> 0 | C29: =COUNTIF(C7:C26,"F") -> 0 | D29: =COUNTIF(D7:D26,"F") -> 0 | E29: =COUNTIF(E7:E26,"F") -> 0 | F29: =COUNTIF(F7:F26,"F") -> 0 | G29: =COUNTIF(G7:G26,"F") -> 0 | H29: =COUNTIF(H7:H26,"F") -> 0
A30: Besetzung Spät (S) | B30: =COUNTIF(B7:B26,"S") -> 0 | C30: =COUNTIF(C7:C26,"S") -> 0 | D30: =COUNTIF(D7:D26,"S") -> 0 | E30: =COUNTIF(E7:E26,"S") -> 0 | F30: =COUNTIF(F7:F26,"S") -> 0 | G30: =COUNTIF(G7:G26,"S") -> 0 | H30: =COUNTIF(H7:H26,"S") -> 0
A31: Besetzung Nacht (N) | B31: =COUNTIF(B7:B26,"N") -> 0 | C31: =COUNTIF(C7:C26,"N") -> 0 | D31: =COUNTIF(D7:D26,"N") -> 0 | E31: =COUNTIF(E7:E26,"N") -> 0 | F31: =COUNTIF(F7:F26,"N") -> 0 | G31: =COUNTIF(G7:G26,"N") -> 0 | H31: =COUNTIF(H7:H26,"N") -> 0

Sheet Woche 3
A1: Schichtplan – Woche 3
A2: Woche ab (Montag): | B2: =IF('Woche 1'!$B$2="","",'Woche 1'!$B$2+14) | C2: ← aus „Woche 1“ berechnet; zum Abweichen einfach ein eigenes Datum eintragen.
A3: Kürzel: F = Früh, S = Spät, N = Nacht, U = Urlaub, K = Krank, - = frei. Stunden je Schicht im Blatt „Legende“.
A5: Mitarbeiter | B5: Mo | C5: Di | D5: Mi | E5: Do | F5: Fr | G5: Sa | H5: So | I5: Schichten | J5: Stunden | K5: Urlaub | L5: Krank
A6: Datum | B6: =IF($B$2="","",$B$2) | C6: =IF($B$2="","",$B$2+1) | D6: =IF($B$2="","",$B$2+2) | E6: =IF($B$2="","",$B$2+3) | F6: =IF($B$2="","",$B$2+4) | G6: =IF($B$2="","",$B$2+5) | H6: =IF($B$2="","",$B$2+6)
I7: =COUNTIF(B7:H7,"F")+COUNTIF(B7:H7,"S")+COUNTIF(B7:H7,"N") -> 0 | J7: =COUNTIF(B7:H7,"F")*Legende!$C$6+COUNTIF(B7:H7,"S")*Legende!$C$7+COUNTIF(B7:H7,"N")*Legende!$C$8 -> 0 | K7: =COUNTIF(B7:H7,"U") -> 0 | L7: =COUNTIF(B7:H7,"K") -> 0
I8: =COUNTIF(B8:H8,"F")+COUNTIF(B8:H8,"S")+COUNTIF(B8:H8,"N") -> 0 | J8: =COUNTIF(B8:H8,"F")*Legende!$C$6+COUNTIF(B8:H8,"S")*Legende!$C$7+COUNTIF(B8:H8,"N")*Legende!$C$8 -> 0 | K8: =COUNTIF(B8:H8,"U") -> 0 | L8: =COUNTIF(B8:H8,"K") -> 0
I9: =COUNTIF(B9:H9,"F")+COUNTIF(B9:H9,"S")+COUNTIF(B9:H9,"N") -> 0 | J9: =COUNTIF(B9:H9,"F")*Legende!$C$6+COUNTIF(B9:H9,"S")*Legende!$C$7+COUNTIF(B9:H9,"N")*Legende!$C$8 -> 0 | K9: =COUNTIF(B9:H9,"U") -> 0 | L9: =COUNTIF(B9:H9,"K") -> 0
I10: =COUNTIF(B10:H10,"F")+COUNTIF(B10:H10,"S")+COUNTIF(B10:H10,"N") -> 0 | J10: =COUNTIF(B10:H10,"F")*Legende!$C$6+COUNTIF(B10:H10,"S")*Legende!$C$7+COUNTIF(B10:H10,"N")*Legende!$C$8 -> 0 | K10: =COUNTIF(B10:H10,"U") -> 0 | L10: =COUNTIF(B10:H10,"K") -> 0
I11: =COUNTIF(B11:H11,"F")+COUNTIF(B11:H11,"S")+COUNTIF(B11:H11,"N") -> 0 | J11: =COUNTIF(B11:H11,"F")*Legende!$C$6+COUNTIF(B11:H11,"S")*Legende!$C$7+COUNTIF(B11:H11,"N")*Legende!$C$8 -> 0 | K11: =COUNTIF(B11:H11,"U") -> 0 | L11: =COUNTIF(B11:H11,"K") -> 0
I12: =COUNTIF(B12:H12,"F")+COUNTIF(B12:H12,"S")+COUNTIF(B12:H12,"N") -> 0 | J12: =COUNTIF(B12:H12,"F")*Legende!$C$6+COUNTIF(B12:H12,"S")*Legende!$C$7+COUNTIF(B12:H12,"N")*Legende!$C$8 -> 0 | K12: =COUNTIF(B12:H12,"U") -> 0 | L12: =COUNTIF(B12:H12,"K") -> 0
I13: =COUNTIF(B13:H13,"F")+COUNTIF(B13:H13,"S")+COUNTIF(B13:H13,"N") -> 0 | J13: =COUNTIF(B13:H13,"F")*Legende!$C$6+COUNTIF(B13:H13,"S")*Legende!$C$7+COUNTIF(B13:H13,"N")*Legende!$C$8 -> 0 | K13: =COUNTIF(B13:H13,"U") -> 0 | L13: =COUNTIF(B13:H13,"K") -> 0
I14: =COUNTIF(B14:H14,"F")+COUNTIF(B14:H14,"S")+COUNTIF(B14:H14,"N") -> 0 | J14: =COUNTIF(B14:H14,"F")*Legende!$C$6+COUNTIF(B14:H14,"S")*Legende!$C$7+COUNTIF(B14:H14,"N")*Legende!$C$8 -> 0 | K14: =COUNTIF(B14:H14,"U") -> 0 | L14: =COUNTIF(B14:H14,"K") -> 0
I15: =COUNTIF(B15:H15,"F")+COUNTIF(B15:H15,"S")+COUNTIF(B15:H15,"N") -> 0 | J15: =COUNTIF(B15:H15,"F")*Legende!$C$6+COUNTIF(B15:H15,"S")*Legende!$C$7+COUNTIF(B15:H15,"N")*Legende!$C$8 -> 0 | K15: =COUNTIF(B15:H15,"U") -> 0 | L15: =COUNTIF(B15:H15,"K") -> 0
I16: =COUNTIF(B16:H16,"F")+COUNTIF(B16:H16,"S")+COUNTIF(B16:H16,"N") -> 0 | J16: =COUNTIF(B16:H16,"F")*Legende!$C$6+COUNTIF(B16:H16,"S")*Legende!$C$7+COUNTIF(B16:H16,"N")*Legende!$C$8 -> 0 | K16: =COUNTIF(B16:H16,"U") -> 0 | L16: =COUNTIF(B16:H16,"K") -> 0
I17: =COUNTIF(B17:H17,"F")+COUNTIF(B17:H17,"S")+COUNTIF(B17:H17,"N") -> 0 | J17: =COUNTIF(B17:H17,"F")*Legende!$C$6+COUNTIF(B17:H17,"S")*Legende!$C$7+COUNTIF(B17:H17,"N")*Legende!$C$8 -> 0 | K17: =COUNTIF(B17:H17,"U") -> 0 | L17: =COUNTIF(B17:H17,"K") -> 0
I18: =COUNTIF(B18:H18,"F")+COUNTIF(B18:H18,"S")+COUNTIF(B18:H18,"N") -> 0 | J18: =COUNTIF(B18:H18,"F")*Legende!$C$6+COUNTIF(B18:H18,"S")*Legende!$C$7+COUNTIF(B18:H18,"N")*Legende!$C$8 -> 0 | K18: =COUNTIF(B18:H18,"U") -> 0 | L18: =COUNTIF(B18:H18,"K") -> 0
... I26: =COUNTIF(B26:H26,"F")+COUNTIF(B26:H26,"S")+COUNTIF(B26:H26,"N") -> 0 | J26: =COUNTIF(B26:H26,"F")*Legende!$C$6+COUNTIF(B26:H26,"S")*Legende!$C$7+COUNTIF(B26:H26,"N")*Legende!$C$8 -> 0 | K26: =COUNTIF(B26:H26,"U") -> 0 | L26: =COUNTIF(B26:H26,"K") -> 0
A27: Summe | I27: =SUM(I7:I26) -> 0 | J27: =SUM(J7:J26) -> 0 | K27: =SUM(K7:K26) -> 0 | L27: =SUM(L7:L26) -> 0
A29: Besetzung Früh (F) | B29: =COUNTIF(B7:B26,"F") -> 0 | C29: =COUNTIF(C7:C26,"F") -> 0 | D29: =COUNTIF(D7:D26,"F") -> 0 | E29: =COUNTIF(E7:E26,"F") -> 0 | F29: =COUNTIF(F7:F26,"F") -> 0 | G29: =COUNTIF(G7:G26,"F") -> 0 | H29: =COUNTIF(H7:H26,"F") -> 0
A30: Besetzung Spät (S) | B30: =COUNTIF(B7:B26,"S") -> 0 | C30: =COUNTIF(C7:C26,"S") -> 0 | D30: =COUNTIF(D7:D26,"S") -> 0 | E30: =COUNTIF(E7:E26,"S") -> 0 | F30: =COUNTIF(F7:F26,"S") -> 0 | G30: =COUNTIF(G7:G26,"S") -> 0 | H30: =COUNTIF(H7:H26,"S") -> 0
A31: Besetzung Nacht (N) | B31: =COUNTIF(B7:B26,"N") -> 0 | C31: =COUNTIF(C7:C26,"N") -> 0 | D31: =COUNTIF(D7:D26,"N") -> 0 | E31: =COUNTIF(E7:E26,"N") -> 0 | F31: =COUNTIF(F7:F26,"N") -> 0 | G31: =COUNTIF(G7:G26,"N") -> 0 | H31: =COUNTIF(H7:H26,"N") -> 0

Sheet Woche 4
A1: Schichtplan – Woche 4
A2: Woche ab (Montag): | B2: =IF('Woche 1'!$B$2="","",'Woche 1'!$B$2+21) | C2: ← aus „Woche 1“ berechnet; zum Abweichen einfach ein eigenes Datum eintragen.
A3: Kürzel: F = Früh, S = Spät, N = Nacht, U = Urlaub, K = Krank, - = frei. Stunden je Schicht im Blatt „Legende“.
A5: Mitarbeiter | B5: Mo | C5: Di | D5: Mi | E5: Do | F5: Fr | G5: Sa | H5: So | I5: Schichten | J5: Stunden | K5: Urlaub | L5: Krank
A6: Datum | B6: =IF($B$2="","",$B$2) | C6: =IF($B$2="","",$B$2+1) | D6: =IF($B$2="","",$B$2+2) | E6: =IF($B$2="","",$B$2+3) | F6: =IF($B$2="","",$B$2+4) | G6: =IF($B$2="","",$B$2+5) | H6: =IF($B$2="","",$B$2+6)
I7: =COUNTIF(B7:H7,"F")+COUNTIF(B7:H7,"S")+COUNTIF(B7:H7,"N") -> 0 | J7: =COUNTIF(B7:H7,"F")*Legende!$C$6+COUNTIF(B7:H7,"S")*Legende!$C$7+COUNTIF(B7:H7,"N")*Legende!$C$8 -> 0 | K7: =COUNTIF(B7:H7,"U") -> 0 | L7: =COUNTIF(B7:H7,"K") -> 0
I8: =COUNTIF(B8:H8,"F")+COUNTIF(B8:H8,"S")+COUNTIF(B8:H8,"N") -> 0 | J8: =COUNTIF(B8:H8,"F")*Legende!$C$6+COUNTIF(B8:H8,"S")*Legende!$C$7+COUNTIF(B8:H8,"N")*Legende!$C$8 -> 0 | K8: =COUNTIF(B8:H8,"U") -> 0 | L8: =COUNTIF(B8:H8,"K") -> 0
I9: =COUNTIF(B9:H9,"F")+COUNTIF(B9:H9,"S")+COUNTIF(B9:H9,"N") -> 0 | J9: =COUNTIF(B9:H9,"F")*Legende!$C$6+COUNTIF(B9:H9,"S")*Legende!$C$7+COUNTIF(B9:H9,"N")*Legende!$C$8 -> 0 | K9: =COUNTIF(B9:H9,"U") -> 0 | L9: =COUNTIF(B9:H9,"K") -> 0
I10: =COUNTIF(B10:H10,"F")+COUNTIF(B10:H10,"S")+COUNTIF(B10:H10,"N") -> 0 | J10: =COUNTIF(B10:H10,"F")*Legende!$C$6+COUNTIF(B10:H10,"S")*Legende!$C$7+COUNTIF(B10:H10,"N")*Legende!$C$8 -> 0 | K10: =COUNTIF(B10:H10,"U") -> 0 | L10: =COUNTIF(B10:H10,"K") -> 0
I11: =COUNTIF(B11:H11,"F")+COUNTIF(B11:H11,"S")+COUNTIF(B11:H11,"N") -> 0 | J11: =COUNTIF(B11:H11,"F")*Legende!$C$6+COUNTIF(B11:H11,"S")*Legende!$C$7+COUNTIF(B11:H11,"N")*Legende!$C$8 -> 0 | K11: =COUNTIF(B11:H11,"U") -> 0 | L11: =COUNTIF(B11:H11,"K") -> 0
I12: =COUNTIF(B12:H12,"F")+COUNTIF(B12:H12,"S")+COUNTIF(B12:H12,"N") -> 0 | J12: =COUNTIF(B12:H12,"F")*Legende!$C$6+COUNTIF(B12:H12,"S")*Legende!$C$7+COUNTIF(B12:H12,"N")*Legende!$C$8 -> 0 | K12: =COUNTIF(B12:H12,"U") -> 0 | L12: =COUNTIF(B12:H12,"K") -> 0
I13: =COUNTIF(B13:H13,"F")+COUNTIF(B13:H13,"S")+COUNTIF(B13:H13,"N") -> 0 | J13: =COUNTIF(B13:H13,"F")*Legende!$C$6+COUNTIF(B13:H13,"S")*Legende!$C$7+COUNTIF(B13:H13,"N")*Legende!$C$8 -> 0 | K13: =COUNTIF(B13:H13,"U") -> 0 | L13: =COUNTIF(B13:H13,"K") -> 0
I14: =COUNTIF(B14:H14,"F")+COUNTIF(B14:H14,"S")+COUNTIF(B14:H14,"N") -> 0 | J14: =COUNTIF(B14:H14,"F")*Legende!$C$6+COUNTIF(B14:H14,"S")*Legende!$C$7+COUNTIF(B14:H14,"N")*Legende!$C$8 -> 0 | K14: =COUNTIF(B14:H14,"U") -> 0 | L14: =COUNTIF(B14:H14,"K") -> 0
I15: =COUNTIF(B15:H15,"F")+COUNTIF(B15:H15,"S")+COUNTIF(B15:H15,"N") -> 0 | J15: =COUNTIF(B15:H15,"F")*Legende!$C$6+COUNTIF(B15:H15,"S")*Legende!$C$7+COUNTIF(B15:H15,"N")*Legende!$C$8 -> 0 | K15: =COUNTIF(B15:H15,"U") -> 0 | L15: =COUNTIF(B15:H15,"K") -> 0
I16: =COUNTIF(B16:H16,"F")+COUNTIF(B16:H16,"S")+COUNTIF(B16:H16,"N") -> 0 | J16: =COUNTIF(B16:H16,"F")*Legende!$C$6+COUNTIF(B16:H16,"S")*Legende!$C$7+COUNTIF(B16:H16,"N")*Legende!$C$8 -> 0 | K16: =COUNTIF(B16:H16,"U") -> 0 | L16: =COUNTIF(B16:H16,"K") -> 0
I17: =COUNTIF(B17:H17,"F")+COUNTIF(B17:H17,"S")+COUNTIF(B17:H17,"N") -> 0 | J17: =COUNTIF(B17:H17,"F")*Legende!$C$6+COUNTIF(B17:H17,"S")*Legende!$C$7+COUNTIF(B17:H17,"N")*Legende!$C$8 -> 0 | K17: =COUNTIF(B17:H17,"U") -> 0 | L17: =COUNTIF(B17:H17,"K") -> 0
I18: =COUNTIF(B18:H18,"F")+COUNTIF(B18:H18,"S")+COUNTIF(B18:H18,"N") -> 0 | J18: =COUNTIF(B18:H18,"F")*Legende!$C$6+COUNTIF(B18:H18,"S")*Legende!$C$7+COUNTIF(B18:H18,"N")*Legende!$C$8 -> 0 | K18: =COUNTIF(B18:H18,"U") -> 0 | L18: =COUNTIF(B18:H18,"K") -> 0
... I26: =COUNTIF(B26:H26,"F")+COUNTIF(B26:H26,"S")+COUNTIF(B26:H26,"N") -> 0 | J26: =COUNTIF(B26:H26,"F")*Legende!$C$6+COUNTIF(B26:H26,"S")*Legende!$C$7+COUNTIF(B26:H26,"N")*Legende!$C$8 -> 0 | K26: =COUNTIF(B26:H26,"U") -> 0 | L26: =COUNTIF(B26:H26,"K") -> 0
A27: Summe | I27: =SUM(I7:I26) -> 0 | J27: =SUM(J7:J26) -> 0 | K27: =SUM(K7:K26) -> 0 | L27: =SUM(L7:L26) -> 0
A29: Besetzung Früh (F) | B29: =COUNTIF(B7:B26,"F") -> 0 | C29: =COUNTIF(C7:C26,"F") -> 0 | D29: =COUNTIF(D7:D26,"F") -> 0 | E29: =COUNTIF(E7:E26,"F") -> 0 | F29: =COUNTIF(F7:F26,"F") -> 0 | G29: =COUNTIF(G7:G26,"F") -> 0 | H29: =COUNTIF(H7:H26,"F") -> 0
A30: Besetzung Spät (S) | B30: =COUNTIF(B7:B26,"S") -> 0 | C30: =COUNTIF(C7:C26,"S") -> 0 | D30: =COUNTIF(D7:D26,"S") -> 0 | E30: =COUNTIF(E7:E26,"S") -> 0 | F30: =COUNTIF(F7:F26,"S") -> 0 | G30: =COUNTIF(G7:G26,"S") -> 0 | H30: =COUNTIF(H7:H26,"S") -> 0
A31: Besetzung Nacht (N) | B31: =COUNTIF(B7:B26,"N") -> 0 | C31: =COUNTIF(C7:C26,"N") -> 0 | D31: =COUNTIF(D7:D26,"N") -> 0 | E31: =COUNTIF(E7:E26,"N") -> 0 | F31: =COUNTIF(F7:F26,"N") -> 0 | G31: =COUNTIF(G7:G26,"N") -> 0 | H31: =COUNTIF(H7:H26,"N") -> 0

Sheet Legende
A1: Schichtplan-Vorlage – Legende und Einstellungen
A3: Stunden je Schicht in Spalte C anpassen – die Wochenstunden aller Wochenblätter rechnen damit.
A5: Kürzel | B5: Bedeutung | C5: Stunden je Schicht
A6: F | B6: Frühschicht | C6: 8
A7: S | B7: Spätschicht | C7: 8
A8: N | B8: Nachtschicht | C8: 8
A9: U | B9: Urlaub (zählt in Spalte „Urlaub“)
A10: K | B10: Krank (zählt in Spalte „Krank“)
A11: - | B11: frei (oder Zelle leer lassen)
A13: So nutzen Sie die Vorlage
A14: 1. Im Blatt „Woche 1“ in Zelle B2 das Datum des Montags eintragen. Die Datumszeilen und die Wochen 2–4 rechnen sich mit.
A15: 2. Namen in Spalte A eintragen (bis zu 20 Mitarbeiter je Wochenblatt) und je Tag ein Kürzel aus der Auswahlliste wählen.
A16: 3. Schichten, Wochenstunden, Urlaubs- und Krankheitstage je Person, die Summenzeile und die Tagesbesetzung rechnen die Formeln aus.
A17: 4. Mehr Wochen: ein Wochenblatt kopieren und in B2 das neue Startdatum eintragen.
A18: 5. Mehr Mitarbeiter: eine Zeile innerhalb der Tabelle einfügen und die Formeln aus Spalte I bis L der Zeile darüber kopieren; Summen und Tagesbesetzung zählen die neue Zeile mit.
A20: Vorlage von SL-UP · https://www.sl-up.com/tools/schichtplan-vorlage/
